BEGIN:VCALENDAR
VERSION:2.0
PRODID:-//AudioTheme 3.0.2
BEGIN:VEVENT
UID:urn:uuid:9db78b72-6732-4504-a275-409ab98dcf5b
URL:https://tanjalipp.com/shows/4-lax-vox-master-trainer-summit-2025-5-9-juni-2025/
DTSTART;VALUE=DATE:20250605
SUMMARY:4. LAX VOX® Master Trainer Summit 2025
DESCRIPTION:4. LAX VOX® Master Trainer Summit 2025 | 5.-9. Juni 2025
END:VEVENT
END:VCALENDAR
