BEGIN:VCALENDAR
VERSION:2.0
PRODID:-//AudioTheme 3.0.2
BEGIN:VEVENT
UID:urn:uuid:7b5167de-c65a-448c-89ba-e3a7484f1118
URL:https://tanjalipp.com/shows/cvt-lax-vox-workout-easy-baby-2/
DTSTART;TZID=GMT:20250117T090000
SUMMARY:CVT + LAX VOX® Workout: "Easy Baby!"
DESCRIPTION:Dazu kombinieren wir CVT (Complete Vocal Technique) und LAX VOX®. Wir werden auch Übungen mit dem LAX VOX® Soundtrack machen. Das heißt\, du brauchst auf jeden Fall einen LAX VOX® Schlauch für das Workout.
LOCATION:Zoom\, Online\, 
END:VEVENT
END:VCALENDAR
