BEGIN:VCALENDAR
VERSION:2.0
PRODID:-//AudioTheme 3.0.2
BEGIN:VEVENT
UID:urn:uuid:59d2d1b2-0569-4da6-8ed0-b7111d8af0eb
URL:https://tanjalipp.com/shows/einfuehrung-in-die-complete-vocal-technique-cvt-4/
DTSTART;TZID=GMT:20241012T080000
SUMMARY:Einführung in die Complete Vocal Technique (CVT)
DESCRIPTION:In diesem Workshop bekommst du einen Überblick darüber\, was die Complete Vocal Technique (CVT) beinhaltet und kannst selbst alles mit einfachen Übungen ausprobieren. Wir werden uns mit LAX VOX® eingrooven und den Workshop damit auch gemütlich beschließen.
LOCATION:Lax Vox® Institute (Online)
END:VEVENT
END:VCALENDAR
