BEGIN:VCALENDAR
VERSION:2.0
PRODID:-//AudioTheme 3.0.2
BEGIN:VEVENT
UID:urn:uuid:59d2d1b2-0569-4da6-8ed0-b7111d8af0eb
URL:https://tanjalipp.com/shows/einfuehrung-in-die-complete-vocal-technique-cvt-5/
DTSTART;TZID=GMT:20251117T090000
SUMMARY:EVS, CVT & UVS – Der Methoden-Vergleich
DESCRIPTION:Die Expertinnen Stephanie Kruse (EVT)\, Tanja Lipp (CVT) und Jasmin de Wilde (UVS) zeigen\, wie unterschiedlich – und gleichzeitig wunderbar ergänzend – ihre Ansätze auf die Stimme blicken.
LOCATION:Lax Vox® Institute (Online)
END:VEVENT
END:VCALENDAR
