BEGIN:VCALENDAR
VERSION:2.0
PRODID:-//AudioTheme 3.0.2
BEGIN:VEVENT
UID:urn:uuid:dff87a01-35eb-4fa4-bd26-291a3e10f38a
URL:https://tanjalipp.com/shows/jump-the-curb-frau-mayer/
DTSTART;TZID=GMT:20260507T183000
SUMMARY:JUMP THE CURB @ Frau Mayer
DESCRIPTION:Happy Swingin' Grooves of the 1940s & 50s. "Frau Mayer" räumt die Tische weg. It's time to dance! 
LOCATION:Frau Mayer\, Rudolfsplatz 12\, Wien\, \, 1010
END:VEVENT
END:VCALENDAR
