BEGIN:VCALENDAR
VERSION:2.0
PRODID:-//AudioTheme 3.0.2
BEGIN:VEVENT
UID:urn:uuid:df2b5687-fdde-44a9-a8b2-bebcb3ccce4f
URL:https://tanjalipp.com/shows/lax-vox-voice-weekend-rock-your-support/
DTSTART;TZID=GMT:20260207T090000
SUMMARY:LAX VOX® Voice Weekend - "Rock Your Support"
DESCRIPTION:Zwei Tage voll praktischer Übungen & Inspiration. 10 interaktive Stimm-Workshops. 10 LAX VOX® Master Trainerinnen. 6 exklusive Stimm-Coachings. 100 % LAX VOX®.
LOCATION:Lax Vox® Institute (Online)
END:VEVENT
END:VCALENDAR
