BEGIN:VCALENDAR
VERSION:2.0
PRODID:-//AudioTheme 3.0.2
BEGIN:VEVENT
UID:urn:uuid:04abc582-bad8-4085-928f-41ac8c754a16
URL:https://tanjalipp.com/shows/online-workshop-complete-vocal-technique-kompakt-2/
DTSTART;TZID=GMT:20260220T090000
SUMMARY:Online Workshop Complete Vocal Technique kompakt
DESCRIPTION:Ein 3-stündiger Online-Workshop für Anfängerinnen – mit Herz\, Humor und der Complete Vocal Technique
LOCATION:Zoom\, Online\, 
END:VEVENT
END:VCALENDAR
