BEGIN:VCALENDAR
VERSION:2.0
PRODID:-//AudioTheme 3.0.2
BEGIN:VEVENT
UID:urn:uuid:590c6c09-0b09-4fe7-8417-f512d6318fdb
URL:https://tanjalipp.com/shows/online-workshop-lauter-singen-ohne-druck-mit-cvt-lax-vox/
DTSTART;TZID=GMT:20260421T160000
SUMMARY:Online Workshop "Lauter singen ohne Druck - mit CVT & LAX VOX®"
DESCRIPTION:In diesem Intensiv-Workshop lernst du\, wie du mit Complete Vocal Technique (CVT) und gezielten LAX VOX® Übungen deine Stimme frei\, tragfähig und ohne Druck einsetzt. Du entwickelst ein sicheres Gefühl für den Vocal Mode Overdrive und verstehst\, wie du Lautstärke bewusst\, gesund und effektiv steuerst.
LOCATION:Lax Vox® Institute (Online)
END:VEVENT
END:VCALENDAR
