BEGIN:VCALENDAR
VERSION:2.0
PRODID:-//AudioTheme 3.0.2
BEGIN:VEVENT
UID:urn:uuid:ff31b79f-f027-431b-a334-63bfcd555212
URL:https://tanjalipp.com/shows/puppets-on-a-swing-5/
DTSTART;TZID=GMT:20261228T183000
SUMMARY:Puppets On A Swing
DESCRIPTION:Schubert Puppets featuring Jump The Curb – Figurentheater meets Swing Music!  
LOCATION:Schubert Theater\, Währinger Straße 46\, Wien\, \, 1090
END:VEVENT
END:VCALENDAR
